Workbook

Sheet Лист1
C1: 352330 Краснодарский край г.Усть-Лабинск ул.Крепостная,10 | I1: ИТОГО | J1: =E327 -> 0 | K1: =F327 -> 0 | DI1: Почтовые услуги
C2: т/ф.8(86135) 5-000-5 т/ф.8(86135) 4-00-98
C3: Мессенджеры Telegram/Мах по тел.+7(918)68-55-68-9
D4: Адрес электронной почты: | E4: capris-info@rambler.ru | G4: НОВИНКИ
D5: Адрес резервной почты: | E5: capris-info@mail.ru | G5: ПРОФ упаковка
D6: Адрес резервной почты: | E6: capris-info@yandex.ru
B7: Прайс-лист - действителен с 11.06.26г.
A8: Наименование культуры | B8: Количество грамм в пакете | C8: Цена за пакет ( с НДС 5%) | D8: Цена за упаковку (20 пакетов) | E8: Ваш заказ | F8: Сумма | G8: ШТРИХ КОДЫ
CU9: =SUM(CU12:CU326) -> 0
CT11: наименование | CU11: заказ | CV11: цена | DB11: заказ | DC11: цена | DE11: номинал/исходное значение/ | DI11: Наинование-загрузка | DJ11: заказ | DK11: цена | DL11: сумма-загрузка
A12: Агератум Голубой (Голубое море) (Каприс) | B12: 0.2 | C12: 17.27 | D12: =C12*20 -> 345.4 | F12: =E12*D12 -> 0 | G12: 4607164060015 | I12: ц | DA12: Агератум Голубой (Голубое море) (Каприс) | DB12: =VLOOKUP(DA12,$CT$12:$CU$326,2,0) -> #N/A | DC12: =VLOOKUP(DA12,$CT$12:$CV$326,3,0) -> #N/A | DE12: 270 | DI12: Агератум Голубой (Голубое море) п.4528 уп | DJ12: =E12 -> 0 | DK12: =D12 -> 345.4 | DL12: =DK12*DJ12 -> 0 | DN12: 1 | GO12: =C12+2 -> 19.27 | GP12: =GO12*20 -> 385.4
A13: Алиссум Лимонад, (многолетний, желтый) (Каприс) | B13: 0.3 | C13: 15.7 | D13: =C13*20 -> 314 | F13: =E13*D13 -> 0 | G13: 4607164061685 | I13: ц | DA13: Алиссум Лимонад, (многолетний, желтый) (Каприс) | DB13: =VLOOKUP(DA13,$CT$12:$CU$326,2,0) -> #N/A | DC13: =VLOOKUP(DA13,$CT$12:$CV$326,3,0) -> #N/A | DE13: 250 | DI13: Алиссум Лимонад, желтый мног. п.4465 уп | DJ13: =E13 -> 0 | DK13: =D13 -> 314 | DL13: =DK13*DJ13 -> 0 | DN13: 2 | GO13: =C13+2 -> 17.7 | GP13: =GO13*20 -> 354
A14: Амарант Султан (метельчатый) (Каприс) | B14: 1 | C14: 15.7 | D14: =C14*20 -> 314 | F14: =E14*D14 -> 0 | G14: 4607164060039 | I14: ц | DA14: Амарант Султан (метельчатый) (Каприс) | DB14: =VLOOKUP(DA14,$CT$12:$CU$326,2,0) -> #N/A | DC14: =VLOOKUP(DA14,$CT$12:$CV$326,3,0) -> #N/A | DE14: 250 | DI14: Амарант Метельчатый, Султан п.4517 уп | DJ14: =E14 -> 0 | DK14: =D14 -> 314 | DL14: =DK14*DJ14 -> 0 | DN14: 3 | GO14: =C14+2 -> 17.7 | GP14: =GO14*20 -> 354
A15: Амарант хвостатый Аристократ (Каприс) | B15: 1 | C15: 15.7 | D15: =C15*20 -> 314 | F15: =E15*D15 -> 0 | G15: 4607164060022 | I15: ц | DB15: =VLOOKUP(DA15,$CT$12:$CU$326,2,0) -> #N/A | DC15: =VLOOKUP(DA15,$CT$12:$CV$326,3,0) -> #N/A | DI15: Амарант хвостатый Аристократ п.4570 уп | DJ15: =E15 -> 0 | DK15: =D15 -> 314 | DL15: =DK15*DJ15 -> 0
A16: Астра Аврора (Принцесса Св-розовая) (Каприс) | B16: 0.3 | C16: 15.7 | D16: =C16*20 -> 314 | F16: =E16*D16 -> 0 | G16: 4607164063542 | I16: ц | CZ16: УП30201904 | DA16: Астра Аврора (Принцесса Св-розовая) (Каприс) | DB16: =VLOOKUP(DA16,$CT$12:$CU$326,2,0) -> #N/A | DC16: =VLOOKUP(DA16,$CT$12:$CV$326,3,0) -> #N/A | DE16: =D16+50 -> 364 | DI16: Астра Аврора п.4246 уп | DJ16: =E16 -> 0 | DK16: =D16 -> 314 | DL16: =DK16*DJ16 -> 0 | DN16: 5 | GO16: =C16+2 -> 17.7 | GP16: =GO16*20 -> 354
A17: Астра Арлекино Белая (Каприс) | B17: 1 | C17: 15.7 | D17: =C17*20 -> 314 | F17: =E17*D17 -> 0 | G17: 4607164060268 | I17: ц | DA17: Астра Арлекино Белая (Каприс) | DB17: =VLOOKUP(DA17,$CT$12:$CU$326,2,0) -> #N/A | DC17: =VLOOKUP(DA17,$CT$12:$CV$326,3,0) -> #N/A | DE17: 250 | DF17: 9359980 | DG17: 11126 | DI17: Астра Арлекино Белая п.2467 уп | DJ17: =E17 -> 0 | DK17: =D17 -> 314 | DL17: =DK17*DJ17 -> 0 | DN17: 6 | GO17: =C17+2 -> 17.7 | GP17: =GO17*20 -> 354
A18: Астра Баретта Светло-красная (Каприс) | B18: 1 | C18: 15.7 | D18: =C18*20 -> 314 | F18: =E18*D18 -> 0 | G18: 4607164060091 | I18: ц | DA18: Астра Баретта Светло-красная (Каприс) | DB18: =VLOOKUP(DA18,$CT$12:$CU$326,2,0) -> #N/A | DC18: =VLOOKUP(DA18,$CT$12:$CV$326,3,0) -> #N/A | DE18: 250 | DF18: 9359975 | DG18: 11126 | DH18: КОРАЛЛ | DI18: Астра Баретта светло-красная п.3167 уп | DJ18: =E18 -> 0 | DK18: =D18 -> 314 | DL18: =DK18*DJ18 -> 0 | DN18: 10 | GO18: =C18+2 -> 17.7 | GP18: =GO18*20 -> 354
A19: Астра Беатриса (Каприс) | B19: 0.5 | C19: 15.7 | D19: =C19*20 -> 314 | F19: =E19*D19 -> 0 | G19: 4607164065676 | I19: ц | DA19: Астра Беатриса (Каприс) | DB19: =VLOOKUP(DA19,$CT$12:$CU$326,2,0) -> #N/A | DC19: =VLOOKUP(DA19,$CT$12:$CV$326,3,0) -> #N/A | DE19: 250 | DI19: Астра Беатриса п.3526 уп | DJ19: =E19 -> 0 | DK19: =D19 -> 314 | DL19: =DK19*DJ19 -> 0 | DN19: 11 | GO19: =C19+2 -> 17.7 | GP19: =GO19*20 -> 354
A20: Астра Венеция Принцесса Желтая (Каприс) | B20: 0.3 | C20: 15.7 | D20: =C20*20 -> 314 | F20: =E20*D20 -> 0 | G20: 4607164063535 | I20: ц | DA20: Астра Венеция Принцесса Желтая (Каприс) | DB20: =VLOOKUP(DA20,$CT$12:$CU$326,2,0) -> #N/A | DC20: =VLOOKUP(DA20,$CT$12:$CV$326,3,0) -> #N/A | DE20: 250 | DI20: Астра Венеция п.3785 уп | DJ20: =E20 -> 0 | DK20: =D20 -> 314 | DL20: =DK20*DJ20 -> 0 | DN20: 12 | GO20: =C20+2 -> 17.7 | GP20: =GO20*20 -> 354
A21: Астра Герцогиня Пионовидная кремовая (Каприс) | B21: 0.5 | C21: 15.7 | D21: =C21*20 -> 314 | F21: =E21*D21 -> 0 | G21: 4607164064884 | I21: ц | DA21: Астра Герцогиня Пионовидная кремовая (Каприс) | DB21: =VLOOKUP(DA21,$CT$12:$CU$326,2,0) -> #N/A | DC21: =VLOOKUP(DA21,$CT$12:$CV$326,3,0) -> #N/A | DE21: 250 | DI21: Астра Герцогиня п.4263 уп | DJ21: =E21 -> 0 | DK21: =D21 -> 314 | DL21: =DK21*DJ21 -> 0 | DN21: 13 | GO21: =C21+2 -> 17.7 | GP21: =GO21*20 -> 354
A22: Астра Дарья (Каприс) | B22: 0.5 | C22: 15.7 | D22: =C22*20 -> 314 | F22: =E22*D22 -> 0 | G22: 4607164063412 | I22: ц | DA22: Астра Дарья (Каприс) | DB22: =VLOOKUP(DA22,$CT$12:$CU$326,2,0) -> #N/A | DC22: =VLOOKUP(DA22,$CT$12:$CV$326,3,0) -> #N/A | DE22: 250 | DI22: Астра Дарья п.4549 уп | DJ22: =E22 -> 0 | DK22: =D22 -> 314 | DL22: =DK22*DJ22 -> 0 | DN22: 14 | GO22: =C22+2 -> 17.7 | GP22: =GO22*20 -> 354
A23: Астра Изабелла Принцесса тем-фиолет. (Каприс) | B23: 0.5 | C23: 15.7 | D23: =C23*20 -> 314 | F23: =E23*D23 -> 0 | G23: 4607164063498 | I23: ц | DA23: Астра Изабелла Принцесса тем-фиолет. (Каприс) | DB23: =VLOOKUP(DA23,$CT$12:$CU$326,2,0) -> #N/A | DC23: =VLOOKUP(DA23,$CT$12:$CV$326,3,0) -> #N/A | DE23: 250 | DI23: Астра Изабелла п.3694 уп | DJ23: =E23 -> 0 | DK23: =D23 -> 314 | DL23: =DK23*DJ23 -> 0 | DN23: 16 | GO23: =C23+2 -> 17.7 | GP23: =GO23*20 -> 354
A24: Астра Искушение жёлтая (Каприс) | B24: 0.5 | C24: 15.7 | D24: =C24*20 -> 314 | F24: =E24*D24 -> 0 | G24: 4607164062743 | I24: ц | DA24: Астра Искушение жёлтая (Каприс) | DB24: =VLOOKUP(DA24,$CT$12:$CU$326,2,0) -> #N/A | DC24: =VLOOKUP(DA24,$CT$12:$CV$326,3,0) -> #N/A | DE24: 250 | DI24: Астра Искушение жёлтая п.4249 уп | DJ24: =E24 -> 0 | DK24: =D24 -> 314 | DL24: =DK24*DJ24 -> 0 | DN24: 18 | GO24: =C24+2 -> 17.7 | GP24: =GO24*20 -> 354
A25: Астра Искушение красная (Каприс) | B25: 1 | C25: 15.7 | D25: =C25*20 -> 314 | F25: =E25*D25 -> 0 | G25: 4607164062767 | I25: ц | DA25: Астра Искушение красная (Каприс) | DB25: =VLOOKUP(DA25,$CT$12:$CU$326,2,0) -> #N/A | DC25: =VLOOKUP(DA25,$CT$12:$CV$326,3,0) -> #N/A | DE25: 250 | DI25: Астра Искушение красная п.3161 уп | DJ25: =E25 -> 0 | DK25: =D25 -> 314 | DL25: =DK25*DJ25 -> 0 | DN25: 19 | GO25: =C25+2 -> 17.7 | GP25: =GO25*20 -> 354
A26: Астра Искушение лососевая (Каприс) | B26: 1 | C26: 15.7 | D26: =C26*20 -> 314 | F26: =E26*D26 -> 0 | G26: 4607164062989 | I26: ц | DA26: Астра Искушение лососевая (Каприс) | DB26: =VLOOKUP(DA26,$CT$12:$CU$326,2,0) -> #N/A | DC26: =VLOOKUP(DA26,$CT$12:$CV$326,3,0) -> #N/A | DE26: 250 | DI26: Астра Искушение лососевая п.4248 уп | DJ26: =E26 -> 0 | DK26: =D26 -> 314 | DL26: =DK26*DJ26 -> 0 | DN26: 20 | GO26: =C26+2 -> 17.7 | GP26: =GO26*20 -> 354
A27: Астра Кармен (Каприс) | B27: 1 | C27: 15.7 | D27: =C27*20 -> 314 | F27: =E27*D27 -> 0 | G27: 4607164060411 | I27: ц | DA27: Астра Кармен (Каприс) | DB27: =VLOOKUP(DA27,$CT$12:$CU$326,2,0) -> #N/A | DC27: =VLOOKUP(DA27,$CT$12:$CV$326,3,0) -> #N/A | DE27: 250 | DF27: 9359976 | DG27: 11126 | DI27: Астра Кармен п.3691 уп | DJ27: =E27 -> 0 | DK27: =D27 -> 314 | DL27: =DK27*DJ27 -> 0 | DN27: 22 | GO27: =C27+2 -> 17.7 | GP27: =GO27*20 -> 354
A28: Астра Королева осени (Каприс) | B28: 0.5 | C28: 15.7 | D28: =C28*20 -> 314 | F28: =E28*D28 -> 0 | G28: 4607164065331 | I28: ц | DA28: Астра Королева осени (Каприс) | DB28: =VLOOKUP(DA28,$CT$12:$CU$326,2,0) -> #N/A | DC28: =VLOOKUP(DA28,$CT$12:$CV$326,3,0) -> #N/A | DE28: 250 | DI28: Астра Королева осени п.4515 уп | DJ28: =E28 -> 0 | DK28: =D28 -> 314 | DL28: =DK28*DJ28 -> 0 | DN28: 23 | GO28: =C28+2 -> 17.7 | GP28: =GO28*20 -> 354
A29: Астра Лада (Каприс) | B29: 0.3 | C29: 15.7 | D29: =C29*20 -> 314 | F29: =E29*D29 -> 0 | G29: 4607164067120 | I29: ц | DA29: Астра Лада (Каприс) | DB29: =VLOOKUP(DA29,$CT$12:$CU$326,2,0) -> #N/A | DC29: =VLOOKUP(DA29,$CT$12:$CV$326,3,0) -> #N/A | DE29: 250 | DI29: Астра Лада п.4405 уп | DJ29: =E29 -> 0 | DK29: =D29 -> 314 | DL29: =DK29*DJ29 -> 0 | DN29: 24 | GO29: =C29+2 -> 17.7 | GP29: =GO29*20 -> 354
A30: Астра Легкий ветерок (Каприс) | B30: 0.3 | C30: 15.7 | D30: =C30*20 -> 314 | F30: =E30*D30 -> 0 | G30: 4607164067182 | I30: ц | DA30: Астра Легкий ветерок (Каприс) | DB30: =VLOOKUP(DA30,$CT$12:$CU$326,2,0) -> #N/A | DC30: =VLOOKUP(DA30,$CT$12:$CV$326,3,0) -> #N/A | DE30: 250 | DI30: Астра Легкий ветерок п.3910 уп | DJ30: =E30 -> 0 | DK30: =D30 -> 314 | DL30: =DK30*DJ30 -> 0 | DN30: 26 | GO30: =C30+2 -> 17.7 | GP30: =GO30*20 -> 354
A31: Астра Лунная фея (Каприс) | B31: 1 | C31: 15.7 | D31: =C31*20 -> 314 | F31: =E31*D31 -> 0 | G31: 4607164062569 | I31: ц | DA31: Астра Лунная фея (Каприс) | DB31: =VLOOKUP(DA31,$CT$12:$CU$326,2,0) -> #N/A | DC31: =VLOOKUP(DA31,$CT$12:$CV$326,3,0) -> #N/A | DE31: 250 | DI31: Астра Лунная фея п.3174 уп | DJ31: =E31 -> 0 | DK31: =D31 -> 314 | DL31: =DK31*DJ31 -> 0 | DN31: 27 | GO31: =C31+2 -> 17.7 | GP31: =GO31*20 -> 354
A32: Астра Небесная лазурь Принцесса голубая (Каприс) | B32: 0.5 | C32: 15.7 | D32: =C32*20 -> 314 | F32: =E32*D32 -> 0 | G32: 4607164063108 | I32: ц | DA32: Астра Небесная лазурь Принцесса голубая (Каприс) | DB32: =VLOOKUP(DA32,$CT$12:$CU$326,2,0) -> #N/A | DC32: =VLOOKUP(DA32,$CT$12:$CV$326,3,0) -> #N/A | DE32: 250 | DF32: 9359990 | DG32: 11126 | DI32: Астра Небесная лазурь п.3940 уп | DJ32: =E32 -> 0 | DK32: =D32 -> 314 | DL32: =DK32*DJ32 -> 0 | DN32: 29 | GO32: =C32+2 -> 17.7 | GP32: =GO32*20 -> 354
A33: Астра Осения (Каприс) | B33: 0.5 | C33: 15.7 | D33: =C33*20 -> 314 | F33: =E33*D33 -> 0 | G33: 4607164062699 | I33: ц | DA33: Астра Осения (Каприс) | DB33: =VLOOKUP(DA33,$CT$12:$CU$326,2,0) -> #N/A | DC33: =VLOOKUP(DA33,$CT$12:$CV$326,3,0) -> #N/A | DE33: 250 | DI33: Астра Осения п.3771 уп | DJ33: =E33 -> 0 | DK33: =D33 -> 314 | DL33: =DK33*DJ33 -> 0 | DN33: 31 | GO33: =C33+2 -> 17.7 | GP33: =GO33*20 -> 354
A34: Астра Пионовидная Голубая лагуна (Каприс) | B34: 1 | C34: 15.7 | D34: =C34*20 -> 314 | F34: =E34*D34 -> 0 | G34: 4607164060152 | I34: ц | DA34: Астра Пионовидная Голубая лагуна (Каприс) | DB34: =VLOOKUP(DA34,[1]закончившиеся!$CV$281:$CW$281,2,0) -> #N/A | DC34: =VLOOKUP(DA34,[1]закончившиеся!$CV$281:$CX$281,3,0) -> #N/A | DE34: 250 | DF34: 9359988 | DG34: 11126 | DI34: Астра Пионовидная Голубая Лагуна п.4564 уп | DJ34: =E34 -> 0 | DK34: =D34 -> 314 | DL34: =DK34*DJ34 -> 0 | DN34: 32 | GO34: =C34+2 -> 17.7 | GP34: =GO34*20 -> 354
A35: Астра Помпонная красная Анита (Каприс) | B35: 1 | C35: 15.7 | D35: =C35*20 -> 314 | F35: =E35*D35 -> 0 | G35: 4607164060046 | I35: ц | DA35: Астра Помпонная красная Анита (Каприс) | DB35: =VLOOKUP(DA35,$CT$12:$CU$326,2,0) -> #N/A | DC35: =VLOOKUP(DA35,$CT$12:$CV$326,3,0) -> #N/A | DE35: 250 | DF35: 9359995 | DG35: 11126 | DH35: ТОРЕАДОР | DI35: Астра Помпонная красная Анита п.3450 уп | DJ35: =E35 -> 0 | DK35: =D35 -> 314 | DL35: =DK35*DJ35 -> 0 | DN35: 34 | GO35: =C35+2 -> 17.7 | GP35: =GO35*20 -> 354
A36: Астра Серебряная Башня фиолетовая (Каприс) | B36: 0.5 | C36: 15.7 | D36: =C36*20 -> 314 | F36: =E36*D36 -> 0 | G36: 4607164067175 | I36: ц | DA36: Астра Серебряная Башня фиолетовая (Каприс) | DB36: =VLOOKUP(DA36,$CT$12:$CU$326,2,0) -> #N/A | DC36: =VLOOKUP(DA36,$CT$12:$CV$326,3,0) -> #N/A | DE36: 250 | DI36: Астра Серебряная Башня фиолетовая п.3461 уп | DJ36: =E36 -> 0 | DK36: =D36 -> 314 | DL36: =DK36*DJ36 -> 0 | DN36: 43 | GO36: =C36+2 -> 17.7 | GP36: =GO36*20 -> 354
A37: Астра смесь Американская красавица (Каприс) | B37: 1 | C37: 15.7 | D37: =C37*20 -> 314 | F37: =E37*D37 -> 0 | G37: 4607164061913 | I37: ц | DA37: Астра смесь Американская красавица (Каприс) | DB37: =VLOOKUP(DA37,$CT$12:$CU$326,2,0) -> #N/A | DC37: =VLOOKUP(DA37,$CT$12:$CV$326,3,0) -> #N/A | DE37: 250 | DI37: Астра Смесь Американская красавица п.4193 уп | DJ37: =E37 -> 0 | DK37: =D37 -> 314 | DL37: =DK37*DJ37 -> 0 | DN37: 44 | GO37: =C37+2 -> 17.7 | GP37: =GO37*20 -> 354
A38: Астра смесь Арлекино (Каприс) | B38: 1 | C38: 15.7 | D38: =C38*20 -> 314 | F38: =E38*D38 -> 0 | G38: 4607164062774 | I38: ц | DA38: Астра смесь Арлекино (Каприс) | DB38: =VLOOKUP(DA38,$CT$12:$CU$326,2,0) -> #N/A | DC38: =VLOOKUP(DA38,$CT$12:$CV$326,3,0) -> #N/A | DE38: 250 | DI38: Астра Смесь Арлекино п.2489 уп | DJ38: =E38 -> 0 | DK38: =D38 -> 314 | DL38: =DK38*DJ38 -> 0 | DN38: 45 | GO38: =C38+2 -> 17.7 | GP38: =GO38*20 -> 354
A39: Астра смесь Вдохновение (Каприс) | B39: 2 | C39: 15.7 | D39: =C39*20 -> 314 | F39: =E39*D39 -> 0 | G39: 4607164060114 | I39: ц | DA39: Астра смесь Вдохновение (Каприс) | DB39: =VLOOKUP(DA39,$CT$12:$CU$326,2,0) -> #N/A | DC39: =VLOOKUP(DA39,$CT$12:$CV$326,3,0) -> #N/A | DE39: 250 | DI39: Астра Смесь Вдохновение п.4029 уп | DJ39: =E39 -> 0 | DK39: =D39 -> 314 | DL39: =DK39*DJ39 -> 0 | DN39: 46 | GO39: =C39+2 -> 17.7 | GP39: =GO39*20 -> 354
A40: Астра смесь Веселая (Каприс) | B40: 1.5 | C40: 15.7 | D40: =C40*20 -> 314 | F40: =E40*D40 -> 0 | G40: 4607164060145 | I40: ц | DA40: Астра смесь Веселая (Каприс) | DB40: =VLOOKUP(DA40,$CT$12:$CU$326,2,0) -> #N/A | DC40: =VLOOKUP(DA40,$CT$12:$CV$326,3,0) -> #N/A | DE40: 250 | DI40: Астра Смесь Веселая п.4191 уп | DJ40: =E40 -> 0 | DK40: =D40 -> 314 | DL40: =DK40*DJ40 -> 0 | DN40: 47 | GO40: =C40+2 -> 17.7 | GP40: =GO40*20 -> 354
A41: Астра смесь Веселая жизнь (Каприс) | B41: 1.5 | C41: 15.7 | D41: =C41*20 -> 314 | F41: =E41*D41 -> 0 | G41: 4607164062781 | I41: ц | DA41: Астра смесь Веселая жизнь (Каприс) | DB41: =VLOOKUP(DA41,$CT$12:$CU$326,2,0) -> #N/A | DC41: =VLOOKUP(DA41,$CT$12:$CV$326,3,0) -> #N/A | DE41: 250 | DI41: Астра Смесь Веселая жизнь п.4435 уп | DJ41: =E41 -> 0 | DK41: =D41 -> 314 | DL41: =DK41*DJ41 -> 0 | DN41: 48 | GO41: =C41+2 -> 17.7 | GP41: =GO41*20 -> 354
...

Sheet Лист2

Sheet Лист3
